BEGIN:VCALENDAR
VERSION:2.0
PRODID:-//wp-events-plugin.com//6.6.3//EN
TZID:Europe/Berlin
X-WR-TIMEZONE:Europe/Berlin
BEGIN:VEVENT
UID:53@schweizergesellschaft.at
DTSTART;TZID=Europe/Berlin:20221014T170000
DTEND;TZID=Europe/Berlin:20221014T200000
DTSTAMP:20221001T125629Z
URL:https://www.schweizergesellschaft.at/veranstaltungen/besuch-der-schlum
 berger-kellerwelten/
SUMMARY:Besuch der Schlumberger Kellerwelten
DESCRIPTION:Im Sommer 2021 waren wir beim "Pop Up" Heurigen im Garten der S
 ektkellerei Schlumberger zu Gast. Im Oktober 2022 möchten wir unter kundi
 ger Führung den Geheimnissen von Schlumberger "auf den Grund" gehen und i
 n die Tiefen der Keller steigen\, wo der renommierte Sekt entsteht. Dass d
 ie älteste und traditionsreichste Sektkellerei Österreichs dieses Jahr i
 hr 180-jähriges Bestehen feiert\, ist ein guter Anlass. Wir erleben eine
  exklusive Kellerführung mit Sekt-Degustation zum ermäßigten Mitglieder
 preis von nur € 15\,-- pro Person. Der Betrag wird vor Ort eingehoben (b
 itte mögl. abgezählt mitbringen). Treffpunkt ist um 17:00 Uhr der Einga
 ng der Sektkellerei Schlumberger\, 1190 Wien\, Heiligenstädter Straße 39
 . Anfahrt mit ÖV: U4/U6 Station Spittelau oder Tramlinie D\, Station Rade
 lmayergasse\, und dann ein paar Schritte stadtauswärts gehen. Das gelbe G
 ebäude ist nicht zu übersehen.\n\nWegen der begrenzten Teilnehmerzahl (m
 ax. 30 Personen) ist eine Anmeldung bis spätestens 9. Oktober mit Namen u
 nd Anzahl Personen unter dem Stichwort „Schlumberger“ unbedingt notwen
 dig\, vorzugsweise per Email an: vorstand@schweizergesellschaft.at. Wir fr
 euen uns auf das gemeinsame Anstoßen mit einem guten Glas Sekt - oder ein
 em "Cüpli"!
LOCATION:Schlumberger Sektkellerei\, Heiligenstädter Straße 39\, Wien\, W
 ien\, 1190\, Österreich
X-APPLE-STRUCTURED-LOCATION;VALUE=URI;X-ADDRESS=Heiligenstädter Straße 39
 \, Wien\, Wien\, 1190\, Österreich;X-APPLE-RADIUS=100;X-TITLE=Schlumberge
 r Sektkellerei:geo:0,0
END:VEVENT
BEGIN:VTIMEZONE
TZID:Europe/Berlin
X-LIC-LOCATION:Europe/Berlin
BEGIN:DAYLIGHT
DTSTART:20220327T030000
TZOFFSETFROM:+0100
TZOFFSETTO:+0200
TZNAME:CEST
END:DAYLIGHT
END:VTIMEZONE
END:VCALENDAR