BEGIN:VCALENDAR
VERSION:2.0
PRODID:-//wp-events-plugin.com//6.6.3//EN
TZID:Europe/Berlin
X-WR-TIMEZONE:Europe/Berlin
BEGIN:VEVENT
UID:2@schweizergesellschaft.at
DTSTART;TZID=Europe/Berlin:20161008T124500
DTEND;TZID=Europe/Berlin:20161008T124500
DTSTAMP:20161127T184810Z
URL:https://www.schweizergesellschaft.at/veranstaltungen/ausstellung-danie
 l-spoerri-und-jean-tinguely/
SUMMARY:Ausstellung: Daniel Spoerri und Jean Tinguely
DESCRIPTION:Im Rahmen dieses Kultur-Ausfluges zur Ausstellung "Künstlerfre
 unde: Daniel Spoerri und Jean Tinguely" laden wir Sie ein\, mit uns die ei
 nmalige Sammlung von Tinguely-Objekten\, Bildern und Briefen aus Privatbes
 itz zu besichtigen.
LOCATION:Hadersdorf am Kamp\, Hadersdorf am Kamp\, Hadersdorf am Kamp\, Nie
 derösterreich\, 3493\, Österreich
GEO:48.45902;15.720559999999978
X-APPLE-STRUCTURED-LOCATION;VALUE=URI;X-ADDRESS=Hadersdorf am Kamp\, Haders
 dorf am Kamp\, Niederösterreich\, 3493\, Österreich;X-APPLE-RADIUS=100;X
 -TITLE=Hadersdorf am Kamp:geo:48.45902,15.720559999999978
END:VEVENT
BEGIN:VTIMEZONE
TZID:Europe/Berlin
X-LIC-LOCATION:Europe/Berlin
BEGIN:DAYLIGHT
DTSTART:20160327T030000
TZOFFSETFROM:+0100
TZOFFSETTO:+0200
TZNAME:CEST
END:DAYLIGHT
END:VTIMEZONE
END:VCALENDAR