BEGIN:VCALENDAR
VERSION:2.0
PRODID:-//wp-events-plugin.com//6.6.3//EN
TZID:Europe/Berlin
X-WR-TIMEZONE:Europe/Berlin
BEGIN:VEVENT
UID:163@schweizergesellschaft.at
DTSTART;TZID=Europe/Berlin:20260122T190000
DTEND;TZID=Europe/Berlin:20260122T220000
DTSTAMP:20260112T171237Z
URL:https://www.schweizergesellschaft.at/veranstaltungen/anlass-vormerkung
 /
SUMMARY:Eine Feier für Anita!
DESCRIPTION:Ein Zusammenkommen im Gedenken an unsere Präsidentin und Ehren
 präsidentin Anita Gut\, ihrem positiven und optimistischen Wesen entsprec
 hend freundvoll\, mit schönen Erinnerungen\, einem „Cüpli“ in der Ha
 nd und natürlich mit Musik! Wer von unseren Mitgliedern in diesem Sinne e
 twas sagen oder vortragen möchte (nur kurze Beiträge!)\, möge sich bitt
 e spätestens bis 15. Januar direkt bei ivo.duerr@schweizergesellschaft.at
  oder 0664/2013828 melden und absprechen.\n\nDa wir viele Mitglieder erwar
 ten\, bitten wir unbedingt um Anmeldung vorzugsweise per Email an\n\nvorst
 and@schweizergesellschaft.at oder an Tel. 0676 648 00 531 bis 19. Januar 2
 026!\n\n&nbsp\;
LOCATION:Schweizer Gesellschaft Wien - Clublokal\, Schwindgasse 20\, Wien\,
  1040\, Österreich
X-APPLE-STRUCTURED-LOCATION;VALUE=URI;X-ADDRESS=Schwindgasse 20\, Wien\, 10
 40\, Österreich;X-APPLE-RADIUS=100;X-TITLE=Schweizer Gesellschaft Wien - 
 Clublokal:geo:0,0
END:VEVENT
BEGIN:VTIMEZONE
TZID:Europe/Berlin
X-LIC-LOCATION:Europe/Berlin
BEGIN:STANDARD
DTSTART:20251026T020000
TZOFFSETFROM:+0200
TZOFFSETTO:+0100
TZNAME:CET
END:STANDARD
END:VTIMEZONE
END:VCALENDAR