BEGIN:VCALENDAR
VERSION:2.0
PRODID:-//wp-events-plugin.com//6.6.3//EN
TZID:Europe/Berlin
X-WR-TIMEZONE:Europe/Berlin
BEGIN:VEVENT
UID:9@schweizergesellschaft.at
DTSTART;TZID=Europe/Berlin:20160527T181500
DTEND;TZID=Europe/Berlin:20160527T200000
DTSTAMP:20161220T210208Z
URL:https://www.schweizergesellschaft.at/veranstaltungen/abendfuehrung-sch
 oenbrunner-zoo/
SUMMARY:Abendführung Schönbrunner Zoo
DESCRIPTION:Wir laden Sie und Ihre Kinder ab 6 Jahren zu einer Abendführun
 g in den Schönbrunner Zoo ein!
LOCATION:Wirtschaftshof Zoo Schönbrunn\, Maxingstraße 13b\, Wien\, 1130\,
  Österreich
GEO:48.1818974;16.30012750000003
X-APPLE-STRUCTURED-LOCATION;VALUE=URI;X-ADDRESS=Maxingstraße 13b\, Wien\, 
 1130\, Österreich;X-APPLE-RADIUS=100;X-TITLE=Wirtschaftshof Zoo Schönbru
 nn:geo:48.1818974,16.30012750000003
END:VEVENT
BEGIN:VTIMEZONE
TZID:Europe/Berlin
X-LIC-LOCATION:Europe/Berlin
BEGIN:DAYLIGHT
DTSTART:20160327T030000
TZOFFSETFROM:+0100
TZOFFSETTO:+0200
TZNAME:CEST
END:DAYLIGHT
END:VTIMEZONE
END:VCALENDAR