BEGIN:VCALENDAR
VERSION:2.0
PRODID:-//wp-events-plugin.com//6.6.3//EN
TZID:Europe/Berlin
X-WR-TIMEZONE:Europe/Berlin
BEGIN:VEVENT
UID:171@schweizergesellschaft.at
DTSTART;TZID=Europe/Berlin:20260417T180000
DTEND;TZID=Europe/Berlin:20260417T210000
DTSTAMP:20260414T084522Z
URL:https://www.schweizergesellschaft.at/veranstaltungen/abend-fuehrung-in
 -der-universitaet-sternwarte/
SUMMARY:Abend-Führung in der Universität-Sternwarte
DESCRIPTION:Die alte Sternwarte der Universität Wien ist die größte hist
 orische Sternwarte der Welt und liegt inmitten eines ruhigen Naturparks\, 
 dem Sternwartepark\, im 18. Bezirk. Wir bieten unseren Mitgliedern die Gel
 egenheit\, einen Einblick in den aktuellen Stand der Forschung in der Astr
 onomie zu erhalten (Einführungsvortrag durch unser Mitglied\, Univ.Prof. 
 Dr. Manuel Güdel)\, das Gebäude mit seinen alten astronomischen Instrume
 nten und das hochinteressante kleine Museum zu besichtigen - und so der We
 ttergott erlaubt - bei klarer Sicht einen Blick durch den imposanten Refra
 ktor (Teleskop) in der Kuppel der Sternwarte auf den Sternenhimmel zu werf
 en. Treffpunkt ist um 17:30 Uhr der S-Bahnhof Gersthof (S45\, Tram 9\, 40
  oder 41)\, Ausgang Gersthoferstraße\, von wo wir etwa 10 Minuten bis zum
  Eingang der Sternwarte (Ecke Türkenschanzstraße / Edmund-Weiß-Gasse) s
 pazieren. Hier ist der Treffpunkt um 17:45 Uhr (für Automobilisten). Begi
 nn der Führung um 18:00 Uhr\, Dauer ca. 2 - 2 1/2  Stunden. Achtung: Lei
 der nicht barrierefrei aufgrund der vielen und hohen Stiegen im alten Geb
 äude! Anmeldung bis spätestens 15. April mit Namen und Anzahl Personen u
 nter dem Stichwort „Sternwarte“ an vorstand@schweizergesellschaft.at o
 der auf unseren Anrufbeantworter unter Tel. 0677 648 00 531.
LOCATION:Universitäts-Sternwarte\, Sternwartepark\, 1180 Wien\, Wien\, 118
 0\, Österreich
X-APPLE-STRUCTURED-LOCATION;VALUE=URI;X-ADDRESS=Sternwartepark\, 1180 Wien\
 , Wien\, 1180\, Österreich;X-APPLE-RADIUS=100;X-TITLE=Universitäts-Stern
 warte:geo:0,0
END:VEVENT
BEGIN:VTIMEZONE
TZID:Europe/Berlin
X-LIC-LOCATION:Europe/Berlin
BEGIN:DAYLIGHT
DTSTART:20260329T030000
TZOFFSETFROM:+0100
TZOFFSETTO:+0200
TZNAME:CEST
END:DAYLIGHT
END:VTIMEZONE
END:VCALENDAR