BEGIN:VCALENDAR
VERSION:2.0
PRODID:-//wp-events-plugin.com//6.6.3//EN
TZID:Europe/Berlin
X-WR-TIMEZONE:Europe/Berlin
BEGIN:VEVENT
UID:104@schweizergesellschaft.at
DTSTART;TZID=Europe/Berlin:20240604T183000
DTEND;TZID=Europe/Berlin:20240604T220000
DTSTAMP:20240530T081027Z
URL:https://www.schweizergesellschaft.at/veranstaltungen/135-generalversam
 mlung/
SUMMARY:135. Generalversammlung (Termin verschoben)
DESCRIPTION:Die für den 4. Juni geplante Generalversammlung muss leider au
 f einen anderen Termin verschoben werden. Unsere Mitglieder wurden\, bzw. 
 werden entsprechend informiert.
LOCATION:Schweizergesellschaftsort\, Schwindgasse 20\, Wien\, Wien\, 1040\,
  Österreich
X-APPLE-STRUCTURED-LOCATION;VALUE=URI;X-ADDRESS=Schwindgasse 20\, Wien\, Wi
 en\, 1040\, Österreich;X-APPLE-RADIUS=100;X-TITLE=Schweizergesellschaftso
 rt:geo:0,0
END:VEVENT
BEGIN:VTIMEZONE
TZID:Europe/Berlin
X-LIC-LOCATION:Europe/Berlin
BEGIN:DAYLIGHT
DTSTART:20240331T030000
TZOFFSETFROM:+0100
TZOFFSETTO:+0200
TZNAME:CEST
END:DAYLIGHT
END:VTIMEZONE
END:VCALENDAR