BEGIN:VCALENDAR
VERSION:2.0
PRODID:-//wp-events-plugin.com//6.6.3//EN
TZID:Europe/Berlin
X-WR-TIMEZONE:Europe/Berlin
BEGIN:VEVENT
UID:111@schweizergesellschaft.at
DTSTART;TZID=Europe/Berlin:20240904T183000
DTEND;TZID=Europe/Berlin:20240904T220000
DTSTAMP:20240715T092947Z
URL:https://www.schweizergesellschaft.at/veranstaltungen/135-generalversam
 mlung-2/
SUMMARY:135. Generalversammlung
DESCRIPTION:Leider mussten wir sie im Frühjahr verschieben\, aber nun habe
 n einen neuen Termin. Die offizielle Einladung an die Mitglieder folgt im 
 August. Bitte den Termin vormerken!
LOCATION:Schweizer Gesellschaft Wien - Clublokal\, Schwindgasse 20\, Wien\,
  1040\, Österreich
X-APPLE-STRUCTURED-LOCATION;VALUE=URI;X-ADDRESS=Schwindgasse 20\, Wien\, 10
 40\, Österreich;X-APPLE-RADIUS=100;X-TITLE=Schweizer Gesellschaft Wien - 
 Clublokal:geo:0,0
END:VEVENT
BEGIN:VTIMEZONE
TZID:Europe/Berlin
X-LIC-LOCATION:Europe/Berlin
BEGIN:DAYLIGHT
DTSTART:20240331T030000
TZOFFSETFROM:+0100
TZOFFSETTO:+0200
TZNAME:CEST
END:DAYLIGHT
END:VTIMEZONE
END:VCALENDAR