BEGIN:VCALENDAR
VERSION:2.0
PRODID:-//wp-events-plugin.com//6.6.3//EN
TZID:Europe/Berlin
X-WR-TIMEZONE:Europe/Berlin
BEGIN:VEVENT
UID:129@schweizergesellschaft.at
DTSTART;TZID=Europe/Berlin:20250801T180000
DTEND;TZID=Europe/Berlin:20250801T223000
DTSTAMP:20250713T083809Z
URL:https://www.schweizergesellschaft.at/veranstaltungen/1-augustfeier-3/
SUMMARY:1. Augustfeier 2025
DESCRIPTION:Wir laden unsere Mitglieder\, Landsleute\, Freundinnen und Freu
 nde der Schweiz herzlich zu unserer 1. Augustfeier 2025 ein! Letztes Jahr 
 war es ein sehr schöner\, stimmungsvoller Abend mit über 100 Gästen. Da
  wir von Zeit zu Zeit den Ort wechseln\, feiern wir heuer in der Meierei i
 m Prater. Direkt an der Prater Hauptallee in der Nähe des Schweizerhauses
  im Grünen gelegen\, sollte es hier auch bei sommerlicher Hitze einigerma
 ßen angenehm sein.\n\nProgramm: 18:00 Uhr Apéro\, offeriert von der Schw
 eizerischen Botschaft in Wien - 18:30 Uhr Begrüßung durch Präsident Ivo
  Dürr Ansprache von Botschaftsrätin Stefanie Diamé - 19:00 Uhr ca. Erö
 ffnung des Buffets - 21:15 Uhr ca. Gemeinsames Singen des Schweizer Psalms
  und Lampionumzug der Kinder\n\nAnfahrt / Erreichbarkeit: Von der U1/U2 St
 ation Praterstern in die Prater Hauptallee (Rechts vom Riesenrad) hinein u
 nd ca. 500 Meter (etwa 10 Minuten) geradeaus bis zur Meierei - oder von de
 r U2 Station Messe Prater die Messestraße hinein in den Prater\, am Schwe
 izerhaus vorbei und dann links zur Meierei (ebenfalls gut 10 Min.).\n\nTei
 lnahmegebühr &amp\; Anmeldung: Wir versuchen\, den Preis für unsere Mitg
 lieder\, insbesondere für die Familien\, niedrig zu halten\, müssen aber
  nach mehreren Jahren doch eine Anpassung vornehmen. Der Preis beinhaltet 
 ein reichhaltiges Buffet (teilweise vegetarisch/vegan) inklusive alkoholfr
 eier Getränke. Alkoholische Getränke sind selbst zu bezahlen. Preis Erwa
 chsene: € 30\,--  (Mitglieder) € 40\,-- (Nichtmitglieder)\, Kinder bi
 s 6 Jahre: gratis\, Kinder von 6-13 Jahren: € 15\,-- (Mitglieder) € 18
 \,-- (Nichtmitglieder). Der Zuschlag an der Abendkasse beträgt € 10\,--
  für Erwachsene und € 5\,-- für Kinder.\n\nWir bitten um verbindliche 
 Anmeldung bis spätestens 25. Juli 2025 an E-Mail vorstand@schweizergesell
 schaft.at oder Tel. 0677 648 00 531 mit dem Betreff "1. Augustfeier" und 
 Namen und Anzahl Erwachsener und Kinder. Die Teilnahmegebühr ist mit der 
 Anmeldung\, spätestens aber bis 25.7.25 auf unser Bank Austria-Konto\, IB
 AN AT32 1200 0108 1034 8800 zu überweisen. Achtung: Wir haben ordentlich 
 Platz\, aber dennoch nicht unbeschränkt\, deshalb bitte baldmöglichst an
 melden!
END:VEVENT
BEGIN:VTIMEZONE
TZID:Europe/Berlin
X-LIC-LOCATION:Europe/Berlin
BEGIN:DAYLIGHT
DTSTART:20250330T030000
TZOFFSETFROM:+0100
TZOFFSETTO:+0200
TZNAME:CEST
END:DAYLIGHT
END:VTIMEZONE
END:VCALENDAR