BEGIN:VCALENDAR
VERSION:2.0
PRODID:-//wp-events-plugin.com//6.6.3//EN
TZID:Europe/Berlin
X-WR-TIMEZONE:Europe/Berlin
BEGIN:VEVENT
UID:108@schweizergesellschaft.at
DTSTART;TZID=Europe/Berlin:20240801T180000
DTEND;TZID=Europe/Berlin:20240801T230000
DTSTAMP:20240715T092207Z
URL:https://www.schweizergesellschaft.at/veranstaltungen/1-augustfeier-202
 4/
SUMMARY:1. Augustfeier 2024
DESCRIPTION:Wir laden unsere Mitglieder und Freundinnen und Freunde der Sch
 weizer Gesellschaft Wien ein\, unsere Bundesfeier im romantischen Ambiente
  des Heurigen Schübel-Auer in Nussdorf (gleich bei der Endstation der Str
 aßenbahnlinie D) zu feiern. Besonders freuen wir uns\, dass sich unsere B
 otschafterin\, Frau Salome Meyer\, bereit erklärt hat\, die 1. August-Ans
 prache zu halten.\n\nProgramm\n\n 	18:00 Uhr Apéritif\, offeriert von der
  Schweizerischen Botschaft in Wien\n 	18:30 Uhr Begrüßung der Gäste dur
 ch den Präsidenten\, Ivo Dürr\n 	Ansprache der Schweizerischen Botschaft
 erin\, I.E. Frau Salome Meyer\n 	19:00 Uhr ca. Eröffnung des Buffets\n 	2
 1:00 Uhr ca. Gemeinsames Singen des Schweizer Psalms und Lampionumzug der 
 Kinder\n\nAnmeldung &amp\; Teilnahmegebühr\n\nWir haben trotz der Inflati
 on der letzten Jahre den Preis seit mehreren Jahren nicht erhöht! Das mö
 chten wir noch einmal so halten\, damit alle Mitglieder und Schweizerinnen
  und Schweizer die Möglichkeit haben\, mit uns zu feiern. Der Preis beinh
 altet das reichhaltige Auer-Sommer-Buffet (teilweise vegan) inklusive\nGet
 ränke (Alkoholfreie Getränke\, Hauswein rot/weiß\, Bier\, Kaffee). Spen
 den zur Unterstützung sind daher sehr willkommen!\nMitglieder: Erwachsene
  € 25\,--\, Kinder 6-15 J. € 10\,--\, Kinder bis 6 J. gratis /  Nicht
 mitglieder:  Erwachsene € 35\,--\,  Kinder 6-15 J. € 10\,--\, Kinder
  bis 6 J. gratis Preise an der Abendkasse: Erwachsene: + € 10\,-- (Kinde
 r gleich wie oben)\nDie Anmeldung bis 25. Juli 2024 ist unbedingt erforder
 lichan unsere E-mail vorstand@schweizergesellschaft.at oder Telefon 0677 6
 48 00 531 mit dem Betreff "1. Augustfeier" und den Namen und Anzahl Erwach
 senen und Kinder (mit Alter). Den entsprechenden Gesamtbetrag überweisen 
 Sie bitte ebenfalls bis 25.7.24 auf unser Konto bei der Bank Austria\, IBA
 N AT32 1200 0108 1034 8800. Bringen Sie (zur Sicherheit) den Zahlungsbeleg
 /Ausdruck mit.
LOCATION:Heuriger Schübel-Auer\, Kahlenbergerstr. 22 oder Eingang Zahnradb
 ahnstr. vis à vis Haltestelle D\, Wien\, 1190\, Österreich
X-APPLE-STRUCTURED-LOCATION;VALUE=URI;X-ADDRESS=Kahlenbergerstr. 22 oder Ei
 ngang Zahnradbahnstr. vis à vis Haltestelle D\, Wien\, 1190\, Österreich
 ;X-APPLE-RADIUS=100;X-TITLE=Heuriger Schübel-Auer:geo:0,0
END:VEVENT
BEGIN:VTIMEZONE
TZID:Europe/Berlin
X-LIC-LOCATION:Europe/Berlin
BEGIN:DAYLIGHT
DTSTART:20240331T030000
TZOFFSETFROM:+0100
TZOFFSETTO:+0200
TZNAME:CEST
END:DAYLIGHT
END:VTIMEZONE
END:VCALENDAR