BEGIN:VCALENDAR
VERSION:2.0
PRODID:-//wp-events-plugin.com//6.6.3//EN
TZID:Europe/Berlin
X-WR-TIMEZONE:Europe/Berlin
BEGIN:VEVENT
UID:51@schweizergesellschaft.at
DTSTART;TZID=Europe/Berlin:20220801T180000
DTEND;TZID=Europe/Berlin:20220801T230000
DTSTAMP:20220801T105731Z
URL:https://www.schweizergesellschaft.at/veranstaltungen/1-augustfeier-2/
SUMMARY:1. Augustfeier 2022 beim Schübel-Auer in Nussdorf
DESCRIPTION:Unsere diesjährigen Bundesfeier findet am Montag\, 1. August 2
 022\, ab 18:00 Uhr\, beim Heurigen "Schübel-Auer" in Nussdorf in der Ka
 hlenberger Straße 22\, 1190 Wien statt. (Der Garten-Eingang des Heurigen
  liegt nur ein paar Schritte über die Straße bei der Endstation der Str
 aßenbahnlinie D in Nußdorf-Beethovengang).\n\nProgramm: 18:00 Uhr Eintre
 ffen der Gäste und Apéro\, spendiert von der Schweizerischen Botschaft.
  Um 18:30 Uhr ca. Begrüßung der Gäste\, Grußwort der Schweizerischen 
 Botschaft und Verlesung der 1.August-Botschaft unseres Bundespräsidenten 
 an die Auslandschweizergemeinschaft. Ca. 19:00 Uhr Buffeteröffnung. Ab ca
 . 21:00 Uhr ist das gemeinsame Singen des Schweizer Psalms und der Lampion
 umzug der Kinder geplant.\n\nKosten: Alles wird teurer? Nein! Wir halten 
 den günstigen Preis von 2021: Erwachsene zahlen nur € 25\,-- pro Perso
 n für das Sommer-Buffet inklusive Getränke (Hauswein rot/weiß\, Gesprit
 zter\, Bier\, Limonaden\, Soda/Mineralwasser\, Kaffee). Kinder von 6-15 Ja
 hren zahlen nur  € 10\,--\, Kinder bis 6 Jahre sind gratis. An der Aben
 dkasse müssen wir einen Zuschlag von € 5\,-- pro Erwachsenem (=  € 
 30\,--) verlangen. Kinder bleiben gleich. Eine Anmeldung ist unbedingt e
 rforderlich bis 25. Juli 2022 per Email an: vorstand@schweizergesellschaf
 t.at (Link unten) mit dem Betreff "1. Augustfeier" und den Namen und de
 r Anzahl der Erwachsenen und Kinder. Bitte den entsprechenden Gesamtbetrag
  vorher auf unser Konto bei der Bank Austria\, IBAN AT32 1200 0108 1034 88
 00 einzahlen und (zur Sicherheit) den Zahlungsbeleg/Ausdruck mitbringen. A
 uch Spenden nehmen wir gerne entgegen!
CATEGORIES:Veranstaltung der Schweizergesellschaft
LOCATION:Heuriger Schübel-Auer\, Kahlenbergerstrasse 22\, Wien\, 1190\, Ö
 sterreich
X-APPLE-STRUCTURED-LOCATION;VALUE=URI;X-ADDRESS=Kahlenbergerstrasse 22\, Wi
 en\, 1190\, Österreich;X-APPLE-RADIUS=100;X-TITLE=Heuriger Schübel-Auer:
 geo:0,0
END:VEVENT
BEGIN:VTIMEZONE
TZID:Europe/Berlin
X-LIC-LOCATION:Europe/Berlin
BEGIN:DAYLIGHT
DTSTART:20220327T030000
TZOFFSETFROM:+0100
TZOFFSETTO:+0200
TZNAME:CEST
END:DAYLIGHT
END:VTIMEZONE
END:VCALENDAR